BEGIN:VCALENDAR
VERSION:2.0
PRODID:-//TTV Metelen - ECPv6.8.2.1//NONSGML v1.0//EN
CALSCALE:GREGORIAN
METHOD:PUBLISH
X-WR-CALNAME:TTV Metelen
X-ORIGINAL-URL:https://www.ttv-metelen.de
X-WR-CALDESC:Veranstaltungen für TTV Metelen
REFRESH-INTERVAL;VALUE=DURATION:PT1H
X-Robots-Tag:noindex
X-PUBLISHED-TTL:PT1H
BEGIN:VTIMEZONE
TZID:Europe/Berlin
BEGIN:DAYLIGHT
TZOFFSETFROM:+0100
TZOFFSETTO:+0200
TZNAME:CEST
DTSTART:20220327T010000
END:DAYLIGHT
BEGIN:STANDARD
TZOFFSETFROM:+0200
TZOFFSETTO:+0100
TZNAME:CET
DTSTART:20221030T010000
END:STANDARD
END:VTIMEZONE
BEGIN:VEVENT
DTSTART;TZID=Europe/Berlin:20221104T193000
DTEND;TZID=Europe/Berlin:20221104T223000
DTSTAMP:20260425T123556
CREATED:20220902T144646Z
LAST-MODIFIED:20220902T145651Z
UID:2985-1667590200-1667601000@www.ttv-metelen.de
SUMMARY:TTC Ladbergen - TTV Metelen II
DESCRIPTION:
URL:https://www.ttv-metelen.de/event/ttc-ladbergen-ttv-metelen-ii-2/
CATEGORIES:Herren - Bezirksklasse 4
END:VEVENT
BEGIN:VEVENT
DTSTART;TZID=Europe/Berlin:20221105T140000
DTEND;TZID=Europe/Berlin:20221105T170000
DTSTAMP:20260425T123556
CREATED:20220902T144646Z
LAST-MODIFIED:20220902T145651Z
UID:2986-1667656800-1667667600@www.ttv-metelen.de
SUMMARY:TTV Metelen - SVB Dreierwalde
DESCRIPTION:
URL:https://www.ttv-metelen.de/event/ttv-metelen-svb-dreierwalde-2/
CATEGORIES:Jungen 19 Kreisklasse 1
END:VEVENT
BEGIN:VEVENT
DTSTART;TZID=Europe/Berlin:20221105T170000
DTEND;TZID=Europe/Berlin:20221105T200000
DTSTAMP:20260425T123556
CREATED:20220902T145651Z
LAST-MODIFIED:20220902T145651Z
UID:3108-1667667600-1667678400@www.ttv-metelen.de
SUMMARY:TTV Metelen III - TTV Hopsten
DESCRIPTION:
URL:https://www.ttv-metelen.de/event/ttv-metelen-iii-ttv-hopsten-3/
CATEGORIES:Herren - 1. Kreisklasse 1
END:VEVENT
BEGIN:VEVENT
DTSTART;TZID=Europe/Berlin:20221105T173000
DTEND;TZID=Europe/Berlin:20221105T203000
DTSTAMP:20260425T123556
CREATED:20220902T144646Z
LAST-MODIFIED:20220902T145651Z
UID:2988-1667669400-1667680200@www.ttv-metelen.de
SUMMARY:DJK TTR Rheine - TTV Metelen
DESCRIPTION:
URL:https://www.ttv-metelen.de/event/djk-ttr-rheine-ttv-metelen-4/
CATEGORIES:Herren Landesliga 2
END:VEVENT
BEGIN:VEVENT
DTSTART;TZID=Europe/Berlin:20221111T193000
DTEND;TZID=Europe/Berlin:20221111T223000
DTSTAMP:20260425T123556
CREATED:20220902T144646Z
LAST-MODIFIED:20220902T145651Z
UID:2989-1668195000-1668205800@www.ttv-metelen.de
SUMMARY:TV Mesum II - TTV Metelen III
DESCRIPTION:
URL:https://www.ttv-metelen.de/event/tv-mesum-ii-ttv-metelen-iii-2/
CATEGORIES:Herren - 1. Kreisklasse 1
END:VEVENT
BEGIN:VEVENT
DTSTART;TZID=Europe/Berlin:20221111T200000
DTEND;TZID=Europe/Berlin:20221111T230000
DTSTAMP:20260425T123556
CREATED:20220902T144847Z
LAST-MODIFIED:20220902T145705Z
UID:2990-1668196800-1668207600@www.ttv-metelen.de
SUMMARY:TTV Metelen II - ETuS Rheine
DESCRIPTION:
URL:https://www.ttv-metelen.de/event/ttv-metelen-ii-etus-rheine-2/
CATEGORIES:Herren - Bezirksklasse 4
END:VEVENT
BEGIN:VEVENT
DTSTART;TZID=Europe/Berlin:20221112T143000
DTEND;TZID=Europe/Berlin:20221112T173000
DTSTAMP:20260425T123556
CREATED:20220902T145705Z
LAST-MODIFIED:20220902T145705Z
UID:3109-1668263400-1668274200@www.ttv-metelen.de
SUMMARY:SV Dickenberg - TTV Metelen
DESCRIPTION:
URL:https://www.ttv-metelen.de/event/sv-dickenberg-ttv-metelen-3/
CATEGORIES:Jungen 19 Kreisklasse 1
END:VEVENT
BEGIN:VEVENT
DTSTART;TZID=Europe/Berlin:20221112T183000
DTEND;TZID=Europe/Berlin:20221112T213000
DTSTAMP:20260425T123556
CREATED:20220902T144847Z
LAST-MODIFIED:20220902T145705Z
UID:2992-1668277800-1668288600@www.ttv-metelen.de
SUMMARY:TTV Metelen - Jugend 70 Merfeld
DESCRIPTION:
URL:https://www.ttv-metelen.de/event/ttv-metelen-jugend-70-merfeld-2/
CATEGORIES:Herren Landesliga 2
END:VEVENT
BEGIN:VEVENT
DTSTART;TZID=Europe/Berlin:20221118T180000
DTEND;TZID=Europe/Berlin:20221118T210000
DTSTAMP:20260425T123556
CREATED:20220902T145705Z
LAST-MODIFIED:20220902T145705Z
UID:3110-1668794400-1668805200@www.ttv-metelen.de
SUMMARY:TTV Metelen - SC Arminia Ochtrup II
DESCRIPTION:
URL:https://www.ttv-metelen.de/event/ttv-metelen-sc-arminia-ochtrup-ii-4/
CATEGORIES:Jungen 19 Kreisklasse 1
END:VEVENT
BEGIN:VEVENT
DTSTART;TZID=Europe/Berlin:20221119T170000
DTEND;TZID=Europe/Berlin:20221119T200000
DTSTAMP:20260425T123556
CREATED:20220902T144847Z
LAST-MODIFIED:20220902T145705Z
UID:2994-1668877200-1668888000@www.ttv-metelen.de
SUMMARY:TTV Metelen III - DJK Gravenhorst II
DESCRIPTION:
URL:https://www.ttv-metelen.de/event/ttv-metelen-iii-djk-gravenhorst-ii-2/
CATEGORIES:Herren - 1. Kreisklasse 1
END:VEVENT
BEGIN:VEVENT
DTSTART;TZID=Europe/Berlin:20221119T183000
DTEND;TZID=Europe/Berlin:20221119T213000
DTSTAMP:20260425T123556
CREATED:20220902T145045Z
LAST-MODIFIED:20220902T145720Z
UID:2996-1668882600-1668893400@www.ttv-metelen.de
SUMMARY:SV Germania Hauenhorst - TTV Metelen II
DESCRIPTION:
URL:https://www.ttv-metelen.de/event/sv-germania-hauenhorst-ttv-metelen-ii-3/
CATEGORIES:Herren - Bezirksklasse 4
END:VEVENT
BEGIN:VEVENT
DTSTART;TZID=Europe/Berlin:20221119T183000
DTEND;TZID=Europe/Berlin:20221119T213000
DTSTAMP:20260425T123556
CREATED:20220902T145720Z
LAST-MODIFIED:20220902T145720Z
UID:3111-1668882600-1668893400@www.ttv-metelen.de
SUMMARY:SuS Stadtlohn - TTV Metelen
DESCRIPTION:
URL:https://www.ttv-metelen.de/event/sus-stadtlohn-ttv-metelen-3/
CATEGORIES:Herren Landesliga 2
END:VEVENT
BEGIN:VEVENT
DTSTART;TZID=Europe/Berlin:20221125T200000
DTEND;TZID=Europe/Berlin:20221125T230000
DTSTAMP:20260425T123556
CREATED:20220902T145045Z
LAST-MODIFIED:20220902T145720Z
UID:2997-1669406400-1669417200@www.ttv-metelen.de
SUMMARY:TTV Metelen II - SC VelpeSüd
DESCRIPTION:
URL:https://www.ttv-metelen.de/event/ttv-metelen-ii-sc-velpesued-2/
CATEGORIES:Herren - Bezirksklasse 4
END:VEVENT
BEGIN:VEVENT
DTSTART;TZID=Europe/Berlin:20221126T150000
DTEND;TZID=Europe/Berlin:20221126T180000
DTSTAMP:20260425T123556
CREATED:20220902T145045Z
LAST-MODIFIED:20220902T145720Z
UID:2998-1669474800-1669485600@www.ttv-metelen.de
SUMMARY:TuS Recke - TTV Metelen
DESCRIPTION:
URL:https://www.ttv-metelen.de/event/tus-recke-ttv-metelen-2/
CATEGORIES:Jungen 19 Kreisklasse 1
END:VEVENT
BEGIN:VEVENT
DTSTART;TZID=Europe/Berlin:20221126T183000
DTEND;TZID=Europe/Berlin:20221126T213000
DTSTAMP:20260425T123556
CREATED:20220902T145720Z
LAST-MODIFIED:20220902T145720Z
UID:3112-1669487400-1669498200@www.ttv-metelen.de
SUMMARY:TTV Metelen - SV Cheruskia Laggenbeck
DESCRIPTION:
URL:https://www.ttv-metelen.de/event/ttv-metelen-sv-cheruskia-laggenbeck-3/
CATEGORIES:Herren Landesliga 2
END:VEVENT
END:VCALENDAR