BEGIN:VCALENDAR
VERSION:2.0
PRODID:-//TTV Metelen - ECPv6.8.2.1//NONSGML v1.0//EN
CALSCALE:GREGORIAN
METHOD:PUBLISH
X-WR-CALNAME:TTV Metelen
X-ORIGINAL-URL:https://www.ttv-metelen.de
X-WR-CALDESC:Veranstaltungen für TTV Metelen
REFRESH-INTERVAL;VALUE=DURATION:PT1H
X-Robots-Tag:noindex
X-PUBLISHED-TTL:PT1H
BEGIN:VTIMEZONE
TZID:Europe/Berlin
BEGIN:DAYLIGHT
TZOFFSETFROM:+0100
TZOFFSETTO:+0200
TZNAME:CEST
DTSTART:20230326T010000
END:DAYLIGHT
BEGIN:STANDARD
TZOFFSETFROM:+0200
TZOFFSETTO:+0100
TZNAME:CET
DTSTART:20231029T010000
END:STANDARD
END:VTIMEZONE
BEGIN:VEVENT
DTSTART;TZID=Europe/Berlin:20230324T200000
DTEND;TZID=Europe/Berlin:20230324T230000
DTSTAMP:20260423T050049
CREATED:20220902T145202Z
LAST-MODIFIED:20220902T150329Z
UID:3025-1679688000-1679698800@www.ttv-metelen.de
SUMMARY:TTV Metelen II - SV Germania Hauenhorst
DESCRIPTION:
URL:https://www.ttv-metelen.de/event/ttv-metelen-ii-sv-germania-hauenhorst-3/
CATEGORIES:Herren - Bezirksklasse 4
END:VEVENT
END:VCALENDAR