BEGIN:VCALENDAR
VERSION:2.0
PRODID:-//TTV Metelen - ECPv6.8.2.1//NONSGML v1.0//EN
CALSCALE:GREGORIAN
METHOD:PUBLISH
X-WR-CALNAME:TTV Metelen
X-ORIGINAL-URL:https://www.ttv-metelen.de
X-WR-CALDESC:Veranstaltungen für TTV Metelen
REFRESH-INTERVAL;VALUE=DURATION:PT1H
X-Robots-Tag:noindex
X-PUBLISHED-TTL:PT1H
BEGIN:VTIMEZONE
TZID:Europe/Berlin
BEGIN:DAYLIGHT
TZOFFSETFROM:+0100
TZOFFSETTO:+0200
TZNAME:CEST
DTSTART:20230326T010000
END:DAYLIGHT
BEGIN:STANDARD
TZOFFSETFROM:+0200
TZOFFSETTO:+0100
TZNAME:CET
DTSTART:20231029T010000
END:STANDARD
END:VTIMEZONE
BEGIN:VEVENT
DTSTART;TZID=Europe/Berlin:20230114T163000
DTEND;TZID=Europe/Berlin:20230114T193000
DTSTAMP:20260423T080624
CREATED:20220902T145103Z
LAST-MODIFIED:20220902T145746Z
UID:3003-1673713800-1673724600@www.ttv-metelen.de
SUMMARY:TTV Metelen III - SuS Neuenkirchen II
DESCRIPTION:
URL:https://www.ttv-metelen.de/event/ttv-metelen-iii-sus-neuenkirchen-ii-3/
CATEGORIES:Herren - 1. Kreisklasse 1
END:VEVENT
BEGIN:VEVENT
DTSTART;TZID=Europe/Berlin:20230114T173000
DTEND;TZID=Europe/Berlin:20230114T203000
DTSTAMP:20260423T080624
CREATED:20220902T145746Z
LAST-MODIFIED:20220902T145746Z
UID:3114-1673717400-1673728200@www.ttv-metelen.de
SUMMARY:Warendorfer SU - TTV Metelen
DESCRIPTION:
URL:https://www.ttv-metelen.de/event/warendorfer-su-ttv-metelen-3/
CATEGORIES:Herren Landesliga 2
END:VEVENT
END:VCALENDAR