BEGIN:VCALENDAR
VERSION:2.0
PRODID:-//TTV Metelen - ECPv6.8.2.1//NONSGML v1.0//EN
CALSCALE:GREGORIAN
METHOD:PUBLISH
X-ORIGINAL-URL:https://www.ttv-metelen.de
X-WR-CALDESC:Veranstaltungen für TTV Metelen
REFRESH-INTERVAL;VALUE=DURATION:PT1H
X-Robots-Tag:noindex
X-PUBLISHED-TTL:PT1H
BEGIN:VTIMEZONE
TZID:Europe/Berlin
BEGIN:DAYLIGHT
TZOFFSETFROM:+0100
TZOFFSETTO:+0200
TZNAME:CEST
DTSTART:20220327T010000
END:DAYLIGHT
BEGIN:STANDARD
TZOFFSETFROM:+0200
TZOFFSETTO:+0100
TZNAME:CET
DTSTART:20221030T010000
END:STANDARD
END:VTIMEZONE
BEGIN:VEVENT
DTSTART;TZID=Europe/Berlin:20221203T170000
DTEND;TZID=Europe/Berlin:20221203T200000
DTSTAMP:20260425T123828
CREATED:20220902T145746Z
LAST-MODIFIED:20220902T145746Z
UID:3113-1670086800-1670097600@www.ttv-metelen.de
SUMMARY:TB Burgsteinfurt III - TTV Metelen II
DESCRIPTION:
URL:https://www.ttv-metelen.de/event/tb-burgsteinfurt-iii-ttv-metelen-ii-3/
CATEGORIES:Herren - Bezirksklasse 4
END:VEVENT
BEGIN:VEVENT
DTSTART;TZID=Europe/Berlin:20221203T183000
DTEND;TZID=Europe/Berlin:20221203T213000
DTSTAMP:20260425T123828
CREATED:20220902T145103Z
LAST-MODIFIED:20220902T145746Z
UID:3001-1670092200-1670103000@www.ttv-metelen.de
SUMMARY:VfL Ramsdorf - TTV Metelen
DESCRIPTION:
URL:https://www.ttv-metelen.de/event/vfl-ramsdorf-ttv-metelen-3/
CATEGORIES:Herren Landesliga 2
END:VEVENT
END:VCALENDAR