BEGIN:VCALENDAR
VERSION:2.0
PRODID:-//TTV Metelen - ECPv6.8.2.1//NONSGML v1.0//EN
CALSCALE:GREGORIAN
METHOD:PUBLISH
X-WR-CALNAME:TTV Metelen
X-ORIGINAL-URL:https://www.ttv-metelen.de
X-WR-CALDESC:Veranstaltungen für TTV Metelen
REFRESH-INTERVAL;VALUE=DURATION:PT1H
X-Robots-Tag:noindex
X-PUBLISHED-TTL:PT1H
BEGIN:VTIMEZONE
TZID:Europe/Berlin
BEGIN:DAYLIGHT
TZOFFSETFROM:+0100
TZOFFSETTO:+0200
TZNAME:CEST
DTSTART:20220327T010000
END:DAYLIGHT
BEGIN:STANDARD
TZOFFSETFROM:+0200
TZOFFSETTO:+0100
TZNAME:CET
DTSTART:20221030T010000
END:STANDARD
END:VTIMEZONE
BEGIN:VEVENT
DTSTART;TZID=Europe/Berlin:20221119T170000
DTEND;TZID=Europe/Berlin:20221119T200000
DTSTAMP:20260425T123112
CREATED:20220902T144847Z
LAST-MODIFIED:20220902T145705Z
UID:2994-1668877200-1668888000@www.ttv-metelen.de
SUMMARY:TTV Metelen III - DJK Gravenhorst II
DESCRIPTION:
URL:https://www.ttv-metelen.de/event/ttv-metelen-iii-djk-gravenhorst-ii-2/
CATEGORIES:Herren - 1. Kreisklasse 1
END:VEVENT
BEGIN:VEVENT
DTSTART;TZID=Europe/Berlin:20221119T183000
DTEND;TZID=Europe/Berlin:20221119T213000
DTSTAMP:20260425T123112
CREATED:20220902T145045Z
LAST-MODIFIED:20220902T145720Z
UID:2996-1668882600-1668893400@www.ttv-metelen.de
SUMMARY:SV Germania Hauenhorst - TTV Metelen II
DESCRIPTION:
URL:https://www.ttv-metelen.de/event/sv-germania-hauenhorst-ttv-metelen-ii-3/
CATEGORIES:Herren - Bezirksklasse 4
END:VEVENT
BEGIN:VEVENT
DTSTART;TZID=Europe/Berlin:20221119T183000
DTEND;TZID=Europe/Berlin:20221119T213000
DTSTAMP:20260425T123112
CREATED:20220902T145720Z
LAST-MODIFIED:20220902T145720Z
UID:3111-1668882600-1668893400@www.ttv-metelen.de
SUMMARY:SuS Stadtlohn - TTV Metelen
DESCRIPTION:
URL:https://www.ttv-metelen.de/event/sus-stadtlohn-ttv-metelen-3/
CATEGORIES:Herren Landesliga 2
END:VEVENT
END:VCALENDAR