BEGIN:VCALENDAR
VERSION:2.0
PRODID:-//TTV Metelen - ECPv6.8.2.1//NONSGML v1.0//EN
CALSCALE:GREGORIAN
METHOD:PUBLISH
X-ORIGINAL-URL:https://www.ttv-metelen.de
X-WR-CALDESC:Veranstaltungen für TTV Metelen
REFRESH-INTERVAL;VALUE=DURATION:PT1H
X-Robots-Tag:noindex
X-PUBLISHED-TTL:PT1H
BEGIN:VTIMEZONE
TZID:Europe/Berlin
BEGIN:DAYLIGHT
TZOFFSETFROM:+0100
TZOFFSETTO:+0200
TZNAME:CEST
DTSTART:20220327T010000
END:DAYLIGHT
BEGIN:STANDARD
TZOFFSETFROM:+0200
TZOFFSETTO:+0100
TZNAME:CET
DTSTART:20221030T010000
END:STANDARD
END:VTIMEZONE
BEGIN:VEVENT
DTSTART;TZID=Europe/Berlin:20221111T193000
DTEND;TZID=Europe/Berlin:20221111T223000
DTSTAMP:20260425T123155
CREATED:20220902T144646Z
LAST-MODIFIED:20220902T145651Z
UID:2989-1668195000-1668205800@www.ttv-metelen.de
SUMMARY:TV Mesum II - TTV Metelen III
DESCRIPTION:
URL:https://www.ttv-metelen.de/event/tv-mesum-ii-ttv-metelen-iii-2/
CATEGORIES:Herren - 1. Kreisklasse 1
END:VEVENT
BEGIN:VEVENT
DTSTART;TZID=Europe/Berlin:20221111T200000
DTEND;TZID=Europe/Berlin:20221111T230000
DTSTAMP:20260425T123155
CREATED:20220902T144847Z
LAST-MODIFIED:20220902T145705Z
UID:2990-1668196800-1668207600@www.ttv-metelen.de
SUMMARY:TTV Metelen II - ETuS Rheine
DESCRIPTION:
URL:https://www.ttv-metelen.de/event/ttv-metelen-ii-etus-rheine-2/
CATEGORIES:Herren - Bezirksklasse 4
END:VEVENT
END:VCALENDAR